BEGIN:VCALENDAR
VERSION:2.0
PRODID:icalendar-ruby
CALSCALE:GREGORIAN
METHOD:PUBLISH
BEGIN:VEVENT
DTSTAMP:20260424T114811Z
UID:251-25352@oakwoodcc.org
DTSTART:20260531T153000Z
DTEND:20260531T170000Z
CLASS:PUBLIC
CREATED:20260423T125424
DESCRIPTION:Discover Oakwood is the best way to learn about Oakwood Com
 munity Church. If you are interested in learning more about us\, attend ou
 r Discover Oakwood this Sunday\, May 31\, 2026 at 11:30am\, immediately 
 following the 10:00am service. You'll leave with a better understanding of
  who we are as a church\, the ministries we have\, and ways you can get in
 volved.
LAST-MODIFIED:20260423T125424
LOCATION:
SUMMARY:Discover Oakwood
URL;VALUE=URI:https://www.oakwoodcc.org/events/discover-oakwood--251/2026-0
 5-31
ATTACH;FILENAME=Discover Oakwood Website Email.jpg;FMTTYPE=image/jpeg:https
 ://dq5pwpg1q8ru0.cloudfront.net/2026/04/23/16/54/05/611c470e-709c-411d-81e
 2-1a7ac5db18ff/Discover%20Oakwood%20Website%20Email.jpg
END:VEVENT
END:VCALENDAR
