BEGIN:VCALENDAR
VERSION:2.0
PRODID:icalendar-ruby
CALSCALE:GREGORIAN
METHOD:PUBLISH
BEGIN:VEVENT
DTSTAMP:20260424T102247Z
UID:250-25354@oakwoodcc.org
DTSTART:20260508T223000Z
DTEND:20260509T003000Z
CLASS:PUBLIC
CREATED:20260423T130222
DESCRIPTION:Come join us for a casual evening of fun and fellowship out by 
 the bonfire at the church. We will supply the smores and refreshments. Ple
 ase bring a lawn chair. 1822 Ministry is welcome to join us!
LAST-MODIFIED:20260423T130222
LOCATION:
SUMMARY:OYA "Bond"Fire
URL;VALUE=URI:https://www.oakwoodcc.org/events/oya-bond-fire/2026-05-08
ATTACH;FILENAME=2026-05 OYA BondFire Website without Date Revised for Weekl
 y Email.png;FMTTYPE=image/png:https://dq5pwpg1q8ru0.cloudfront.net/2026/04
 /23/17/02/22/39f2d9d0-2de2-4224-ac39-3f42ccbdc196/2026-05%20OYA%20BondFire
 %20Website%20without%20Date%20Revised%20for%20Weekly%20Email.png
END:VEVENT
END:VCALENDAR
