BEGIN:VCALENDAR
VERSION:2.0
PRODID:icalendar-ruby
CALSCALE:GREGORIAN
METHOD:PUBLISH
BEGIN:VEVENT
DTSTAMP:20260424T102053Z
UID:249-25345@oakwoodcc.org
DTSTART:20260424T223000Z
DTEND:20260425T003000Z
CLASS:PUBLIC
CREATED:20260423T122320
DESCRIPTION:Join OYA for our next Worship &amp\; the Word on Friday\, April
  24th at 6:30pm. Join us as we dive into Ephesians 4!\nMark your calendars
  for future Worship &amp\; the Word dates: May 22nd and June 5th! We will 
 continue in book of Ephesians.
LAST-MODIFIED:20260423T122320
LOCATION:
SUMMARY:OYA Worship & the Word
URL;VALUE=URI:https://www.oakwoodcc.org/events/oya-worship-the-word--249/20
 26-04-24
ATTACH;FILENAME=OYA Worship & The Word - Ephesians Website without Date .pn
 g;FMTTYPE=image/png:https://dq5pwpg1q8ru0.cloudfront.net/2026/04/23/16/21/
 55/e3816dd1-e88f-45fc-8d3a-cd9908ab7144/OYA%20Worship%20&%20The%20Word%20-
 %20Ephesians%20Website%20without%20Date%20.png
END:VEVENT
END:VCALENDAR
